Workbook
Name Attributes: Attributes!$A:$AF
Name Discont: #REF!
Name group0: '[1]Opaque Upcharges'!$A:$D
Name List: [2]List!$A$1:$AN$65536
Name List: [2]List!$A$1:$AN$65536
Name List_ALS: Tables!$F$22
Name list_Boolean: Tables!$AH$2:$AH$3
Name list_Cabinets: Tables!$AO$2:$AO$1443
Name list_Doorstyles: Tables!$A$2:$A$10
Name list_DrawerGrade: Tables!$Y$2:$Y$3
Name list_DSF: Tables!$K$2:$K$87
Name list_EndType: Tables!$AB$2:$AB$2
Name list_Finishes: Tables!$F$2:$F$22
Name list_GlassGrade: Tables!$R$2:$R$2
Name list_HingeGrade: Tables!$V$2:$V$3
Name list_Hinging: Tables!$AE$2:$AE$3
Name list_Models: 'List Pricing'!$A$4:$A$1936
Name list_NoDoorStyles: Tables!$A$36:$A$37
Name list_OldDoorStyles: Tables!$A$2:$A$18
Name list_oldDSF: Tables!$K$2:$K$296
Name list_OldFinishes: Tables!$F$2:$F$42
Name List_OrderType: Tables!$AY$2:$AY$3
Name list_ReasonCodes: Tables!$AL$2:$AL$13
Name list_SampleDoors: Tables!$BD$2:$BD$85
Name list_ShipMethod: Tables!$AJ$2:$AJ$6
Name List_SKins_P: Tables!$O$3
Name List_Skins_R: Tables!$O$4
Name List_Skins_RP: Tables!$O$3:$O$4
Name List_Skins_VP: Tables!$O$2:$O$3
Name list_Skins_VPR: Tables!$O$2:$O$4
Name list_VeneerAccMultiplier: Tables!$BB$2
Name ListPrice: 'List Pricing'!$A:$BK
Name listprice2: 'List Pricing'!$A:$BK
Name models: 'List Pricing'!$H$1899
Name OBS: #REF!
Name obsolete: #REF!
Name oldhinge: 'List Pricing'!$A$21:$C$55
Name PriceLookup: 'Order Form'!$Y$18:$CE$117
Name skudollarcalc: 'Designer Sales Aid'!#REF!
Name tbl_ALS: Tables!$F$22:$I$22
Name tbl_DoorStyles: Tables!$A$2:$D$10
Name tbl_DraweGrade: Tables!$Y$2:$Z$3
Name tbl_DSF: Tables!$K$2:$M$87
Name tbl_EndTypes: Tables!$AB$2:$AC$2
Name tbl_FasciaSets: Tables!$AO$1:$AW$1443
Name tbl_Finishes: Tables!$F$2:$I$22
Name tbl_GlassGrade: Tables!$R$2:$T$2
Name tbl_HingeGrade: Tables!$V$2:$W$3
Name tbl_Hinging: Tables!$AE$2:$AF$3
Name tbl_Models: 'List Pricing'!$A$4:$A$1936
Name tbl_No_doorstyles: Tables!$A$36:$D$37
Name tbl_OldDoorStyles: Tables!$A$2:$D$18
Name tbl_oldDSF: Tables!$K$2:$M$296
Name tbl_OldFinishes: Tables!$F$2:$I$42
Name tbl_OrderType: Tables!$AY$2:$AZ$3
Name tbl_ReasonCodes: Tables!$AL$2:$AM$13
Name tbl_SampleDoors: Tables!$BD$2:$BG$85
Name tbl_SkinGrade: Tables!$O$2:$P$4
Name Tbl_Skins_P: Tables!$O$3:$P$3
Name update: #REF!

Sheet Summary
B1: =+MATCH(#REF!,'List Pricing'!$A4:$Z4,0) -> #REF! | D1: =+MATCH(#REF!,'List Pricing'!$A4:$Z4,0) -> #REF! | E1: =+MATCH(#REF!,'List Pricing'!$A4:$Z4,0) -> #REF! | V1: =+MATCH(#REF!,'List Pricing'!$A4:$Z4,0) -> #REF! | W1: =+MATCH(#REF!,'List Pricing'!$A4:$Z4,0) -> #REF! | X1: =+MATCH(#REF!,'List Pricing'!$A4:$Z4,0) -> #REF! | Y1: =+MATCH(#REF!,'List Pricing'!$A4:$Z4,0) -> #REF! | Z1: =+MATCH(#REF!,'List Pricing'!$A4:$Z4,0) -> #REF! | AA1: =+MATCH(#REF!,'List Pricing'!$A4:$Z4,0) -> #REF! | AB1: =+MATCH(#REF!,'List Pricing'!$A4:$Z4,0) -> #REF! | AC1: =+MATCH(#REF!,'List Pricing'!$A4:$Z4,0) -> #REF! | ... AJ1: =+MATCH(#REF!,'List Pricing'!$A4:$Z4,0) -> #REF! | AO1: =+MATCH(#REF!,'List Pricing'!$A4:$Z4,0) -> #REF! | AP1: =+MATCH(#REF!,'List Pricing'!$A4:$Z4,0) -> #REF! | AQ1: =+MATCH(#REF!,'List Pricing'!$A4:$Z4,0) -> #REF! | AR1: =+MATCH(#REF!,'List Pricing'!$A4:$Z4,0) -> #REF!
B2: CURRENT SKU LIST IN SELECTED DOOR / FINISH / OPTION SET | W2: Active multiplier | X2: ='Order Form'!D12 -> 1 | AA2: End Multiplier | AB2: =IF(L7="Faux",0,1) -> 0
B3: Door Style | C3: Finish | E3: #Cabs | F3: Base Sku Price | G3: F/E | H3: Finish Upcharge | I3: Drawer Box Upcharges | J3: Hinge Grade Upcharge | K3: Glass Upcharge | L3: Total Cost (Before Freight) | AO3: Group 1 Ends | AP3: Group 2 Ends | AQ3: Group 1 Doors | AR3: Group 2 Doors
B4: =IF(+'Order Form'!D12=0," ",+'Order Form'!I3) -> 0 | C4: =IF(+'Order Form'!D12=0," ",+'Order Form'!I5) -> 0 | E4: =IF(+'Order Form'!D12=0," ",+'Order Form'!S16) -> 0 | F4: =IF(+'Order Form'!D12=0," ",+'Order Form'!J15) -> 0 | G4: =IF(+'Order Form'!D12=0," ",+'Order Form'!K15) -> 0 | H4: =IF(+'Order Form'!D12=0," ",+'Order Form'!L15) -> 0 | I4: =IF(+'Order Form'!D12=0," ",+'Order Form'!M15) -> 0 | J4: =IF(+'Order Form'!D12=0," ",+'Order Form'!N15) -> 0 | K4: =IF(+'Order Form'!D12=0," ",+'Order Form'!O15) -> 0 | L4: =SUM(F4:K4) -> 0 | X4: XX | Y4: ML | Z4: LX | AA4: MD | AB4: HM | AC4: MSF | AD4: NT | AE4: XXO/M | AF4: LCO | AG4: SHO | AH4: LCM | AI4: SHM | AJ4: FNM | AK4: CFM | AL4: NPM | AM4: MNM
W5: Sumproduct - Extended Price | X5: =SUMPRODUCT($V$9:$V$107,X9:X107)*$X$2 -> 0 | Y5: =SUMPRODUCT($V$9:$V$107,Y9:Y107)*$X$2 -> 0 | Z5: =SUMPRODUCT($V$9:$V$107,Z9:Z107)*$X$2 -> 0 | AA5: =SUMPRODUCT($V$9:$V$107,AA9:AA107)*$X$2 -> 0 | AB5: =SUMPRODUCT($V$9:$V$107,AB9:AB107)*$X$2 -> 0 | AC5: =SUMPRODUCT($V$9:$V$107,AC9:AC107)*$X$2 -> 0 | AD5: =SUMPRODUCT($V$9:$V$107,AD9:AD107)*$X$2 -> 0 | AE5: =SUMPRODUCT($V$9:$V$107,AE9:AE107)*$X$2 -> 0 | ... AM5: =SUMPRODUCT($V$9:$V$107,AM9:AM107)*$X$2 -> 0 | AO5: =SUMPRODUCT($V$9:$V$86,AO9:AO86)*$X$2 -> 0 | AP5: =SUMPRODUCT($V$9:$V$86,AP9:AP86)*$X$2 -> 0 | AQ5: =SUMPRODUCT($V$9:$V$86,AQ9:AQ86)*$X$2 -> 0 | AR5: =SUMPRODUCT($V$9:$V$86,AR9:AR86)*$X$2 -> 0 | AU5: =SUMPRODUCT($V$9:$V$86,AU9:AU86)*$X$2 -> 0 | AV5: =SUMPRODUCT($V$9:$V$86,AV9:AV86)*$X$2 -> 0 | CF5: =SUMPRODUCT($V$9:$V$86,CF9:CF86)*$X$2 -> 0 | CG5: =SUMPRODUCT($V$9:$V$86,CG9:CG86) -> 0
W6: PriceLookup-Index | X6: 1 | Y6: 2 | Z6: 3 | AA6: 4 | AB6: 5 | AC6: 6 | AD6: 7 | AE6: 12 | AF6: 13 | AG6: 14 | AH6: 15 | AI6: 16 | AJ6: 17 | AK6: 18 | AL6: 19 | AM6: 20 | AO6: 8 | AP6: 9 | AQ6: 10 | AR6: 11 | AU6: 21 | AV6: 22 | AW6: 23 | AX6: 24 | AY6: 25 | AZ6: 26 | BA6: 27 | BB6: 28 | BC6: 29 | BD6: 30 | BE6: 31 | BF6: 32 | BG6: 33 | BH6: 34 | BI6: 35 | BJ6: 36 | BK6: 37 | BL6: 38 | BM6: 39 | BN6: 40 | BO6: 41 | BP6: 42 | BQ6: 43 | BR6: 44 | BS6: 45 | BT6: 46 | BU6: 47 | BV6: 48 | BW6: 49 | BX6: 50 | BY6: 51 | BZ6: 52 | CA6: 53 | CB6: 54 | CC6: 55 | CD6: 56 | CE6: 57 | CH6: 58
B7: COMPARISON FOR SKU LIST IN SELECTED DOOR / FINISH / OPTION SET ABOVE | I7: Finished End Grade Pricing (NON RTF): | L7: Faux | N7: Extended | W7: HardList-Vlook | X7: 3 | Y7: 4 | Z7: 5 | AA7: 6 | AB7: 7 | AC7: 8 | AD7: 9 | AE7: 14 | AF7: 15 | AG7: 16 | AH7: 17 | AI7: 18 | AJ7: 19 | AK7: 20 | AL7: 21 | AM7: 22 | AO7: 10 | AP7: 11 | AQ7: 12 | AR7: 13 | AU7: 23 | AV7: 24 | AW7: 25 | AX7: 26 | AY7: 27 | AZ7: 28 | BA7: 29 | BB7: 30 | BC7: 31 | BD7: 32 | BE7: 33 | BF7: 34 | BG7: 35 | BH7: 36 | BI7: 37 | BJ7: 38 | BK7: 39 | BL7: 40 | BM7: 41 | BN7: 42 | BO7: 43 | BP7: 44 | BQ7: 45 | BR7: 46 | BS7: 47 | BT7: 48 | BU7: 49 | BV7: 50 | BW7: 51 | BX7: 52 | BY7: 53 | BZ7: 54 | CA7: 55 | CB7: 56 | CC7: 57 | CD7: 58 | CE7: 59 | CF7: 60 | CG7: 61 | CH7: 62 | CI7: 63 | CJ7: 64 | CK7: 65
B8: Door Style | C8: Finish | D8: Wood Specie | E8: Description | J8: Base SKU Price | K8: $ Difference | L8: % Difference | N8: Base SKU Price | O8: Active Drawer Adder | P8: Active Hinge Adder | Q8: Active Glass Adder | R8: F/E adder | S8: Door Upcharge | X8: THERMOFOIL DOORS | AE8: OAK DOORS | AF8: Oak Doors | AH8: MAPLE DOORS | AO8: THERMOFOIL ADDERS (Extended) | AU8: FINISH ADDERS | AZ8: SPEC GRADE ADDERS | BD8: INFORMATION
J9: =IF(B9="","",SUM(N9:S9)) | K9: =IF(B9="","",J9-$L$4) | O9: =IF(N9="","",'Order Form'!$M$15) | P9: =IF(N9="","",'Order Form'!$N$15) | Q9: =IF(O9="","",'Order Form'!$O$15) | V9: ='Order Form'!B18 -> 0 | W9: 1 | X9: ='Order Form'!Y18 | Y9: ='Order Form'!Z18 | Z9: ='Order Form'!AA18 | AA9: ='Order Form'!AB18 | AB9: ='Order Form'!AC18 | AC9: ='Order Form'!AD18 | AD9: ='Order Form'!AE18 | AE9: ='Order Form'!AJ18 | AF9: ='Order Form'!AK18 | AG9: ='Order Form'!AL18 | AH9: ='Order Form'!AM18 | AI9: ='Order Form'!AN18 | AJ9: ='Order Form'!AO18 | AK9: ='Order Form'!AP18 | AL9: ='Order Form'!AQ18 | AM9: ='Order Form'!AR18 | AO9: =IF($V9=0,"",'Order Form'!AF18*$V9*$CH9) | AP9: =IF($V9=0,"",'Order Form'!AG18*$V9*$CH9) | AQ9: ='Order Form'!AH18 | AR9: ='Order Form'!AI18 | AU9: =IF(V9=0,"",'Order Form'!AS18*V9*CI9) | AV9: =IF(V9=0,"",'Order Form'!AT18*V9*CI9) | AW9: ='Order Form'!AU18 | AX9: ='Order Form'!AV18 | AY9: ='Order Form'!AW18 | AZ9: ='Order Form'!AX18 | BA9: ='Order Form'!AY18 | BB9: ='Order Form'!AZ18 | BC9: ='Order Form'!BA18 | BD9: ='Order Form'!BB18 | ... CE9: ='Order Form'!CC18 | CF9: =IF($V9=0,"",'Order Form'!CD18*$V9*$CH9) | CG9: =IF($V9=0,"",'Order Form'!CE18) | CH9: ='Order Form'!CF18 | CI9: ='Order Form'!CG18 -> `` | CJ9: ='Order Form'!CH18 | CK9: ='Order Form'!CI18
B10: Lennox RTF | C10: White | D10: Thermofoil | E10: Slab thermofoil door and drawer front | J10: =IF(B10="","",SUM(N10:S10)) -> 0 | K10: =IF(B10="","",J10-$L$4) -> 0 | L10: =-1+(+J10/$L$4) -> #DIV/0! | N10: =$Z$5 -> 0 | O10: =IF(N10="","",'Order Form'!$M$15) -> 0 | P10: =IF(N10="","",'Order Form'!$N$15) -> 0 | Q10: =IF(O10="","",'Order Form'!$O$15) -> 0 | R10: NA | S10: NA | V10: ='Order Form'!B19 -> 0 | W10: 2 | X10: ='Order Form'!Y19 | Y10: ='Order Form'!Z19 | Z10: ='Order Form'!AA19 | AA10: ='Order Form'!AB19 | AB10: ='Order Form'!AC19 | AC10: ='Order Form'!AD19 | AD10: ='Order Form'!AE19 | AE10: ='Order Form'!AJ19 | AF10: ='Order Form'!AK19 | AG10: ='Order Form'!AL19 | AH10: ='Order Form'!AM19 | AI10: ='Order Form'!AN19 | AJ10: ='Order Form'!AO19 | AK10: ='Order Form'!AP19 | AL10: ='Order Form'!AQ19 | AM10: ='Order Form'!AR19 | AO10: =IF($V10=0,"",'Order Form'!AF19*$V10*$CH10) | AP10: =IF($V10=0,"",'Order Form'!AG19*$V10*$CH10) | AQ10: ='Order Form'!AH19 | AR10: ='Order Form'!AI19 | AU10: =IF(V10=0,"",'Order Form'!AS19*V10*CI10) | AV10: =IF(V10=0,"",'Order Form'!AT19*V10*CI10) | AW10: ='Order Form'!AU19 | AX10: ='Order Form'!AV19 | AY10: ='Order Form'!AW19 | AZ10: ='Order Form'!AX19 | BA10: ='Order Form'!AY19 | BB10: ='Order Form'!AZ19 | BC10: ='Order Form'!BA19 | BD10: ='Order Form'!BB19 | ... CE10: ='Order Form'!CC19 | CF10: =IF($V10=0,"",'Order Form'!CD19*$V10*$CH10) | CG10: =IF($V10=0,"",'Order Form'!CE19) | CH10: ='Order Form'!CF19 | CI10: ='Order Form'!CG19 | CJ10: ='Order Form'!CH19 | CK10: ='Order Form'!CI19
B11: Lennox RTF | C11: Opaque | D11: Thermofoil | E11: Slab thermofoil door and drawer front | J11: =IF(B11="","",SUM(N11:S11)) -> 0 | K11: =IF(B11="","",J11-$L$4) -> 0 | L11: =-1+(+J11/$L$4) -> #DIV/0! | N11: =$Z$5 -> 0 | O11: =IF(N11="","",'Order Form'!$M$15) -> 0 | P11: =IF(N11="","",'Order Form'!$N$15) -> 0 | Q11: =IF(O11="","",'Order Form'!$O$15) -> 0 | R11: =$CF$5 -> 0 | S11: =$CG$5 -> 0 | V11: ='Order Form'!B20 -> 0 | W11: 3 | X11: ='Order Form'!Y20 | Y11: ='Order Form'!Z20 | Z11: ='Order Form'!AA20 | AA11: ='Order Form'!AB20 | AB11: ='Order Form'!AC20 | AC11: ='Order Form'!AD20 | AD11: ='Order Form'!AE20 | AE11: ='Order Form'!AJ20 | AF11: ='Order Form'!AK20 | AG11: ='Order Form'!AL20 | AH11: ='Order Form'!AM20 | AI11: ='Order Form'!AN20 | AJ11: ='Order Form'!AO20 | AK11: ='Order Form'!AP20 | AL11: ='Order Form'!AQ20 | AM11: ='Order Form'!AR20 | AO11: =IF($V11=0,"",'Order Form'!AF20*$V11*$CH11) | AP11: =IF($V11=0,"",'Order Form'!AG20*$V11*$CH11) | AQ11: ='Order Form'!AH20 | AR11: ='Order Form'!AI20 | AU11: =IF(V11=0,"",'Order Form'!AS20*V11*CI11) | AV11: =IF(V11=0,"",'Order Form'!AT20*V11*CI11) | AW11: ='Order Form'!AU20 | AX11: ='Order Form'!AV20 | AY11: ='Order Form'!AW20 | AZ11: ='Order Form'!AX20 | BA11: ='Order Form'!AY20 | BB11: ='Order Form'!AZ20 | BC11: ='Order Form'!BA20 | BD11: ='Order Form'!BB20 | ... CE11: ='Order Form'!CC20 | CF11: =IF($V11=0,"",'Order Form'!CD20*$V11*$CH11) | CG11: =IF($V11=0,"",'Order Form'!CE20) | CH11: ='Order Form'!CF20 | CI11: ='Order Form'!CG20 | CJ11: ='Order Form'!CH20 | CK11: ='Order Form'!CI20
B12: Lennox RTF | C12: Wood Grain | D12: Thermofoil | E12: Slab thermofoil door and drawer front | J12: =IF(B12="","",SUM(N12:S12)) -> 0 | K12: =IF(B12="","",J12-$L$4) -> 0 | L12: =-1+(+J12/$L$4) -> #DIV/0! | N12: =$Z$5 -> 0 | O12: =IF(N12="","",'Order Form'!$M$15) -> 0 | P12: =IF(N12="","",'Order Form'!$N$15) -> 0 | Q12: =IF(O12="","",'Order Form'!$O$15) -> 0 | R12: =$AO$5 -> 0 | S12: =$AQ$5 -> 0 | V12: ='Order Form'!B21 -> 0 | W12: 4 | X12: ='Order Form'!Y21 | Y12: ='Order Form'!Z21 | Z12: ='Order Form'!AA21 | AA12: ='Order Form'!AB21 | AB12: ='Order Form'!AC21 | AC12: ='Order Form'!AD21 | AD12: ='Order Form'!AE21 | AE12: ='Order Form'!AJ21 | AF12: ='Order Form'!AK21 | AG12: ='Order Form'!AL21 | AH12: ='Order Form'!AM21 | AI12: ='Order Form'!AN21 | AJ12: ='Order Form'!AO21 | AK12: ='Order Form'!AP21 | AL12: ='Order Form'!AQ21 | AM12: ='Order Form'!AR21 | AO12: =IF($V12=0,"",'Order Form'!AF21*$V12*$CH12) | AP12: =IF($V12=0,"",'Order Form'!AG21*$V12*$CH12) | AQ12: ='Order Form'!AH21 | AR12: ='Order Form'!AI21 | AU12: =IF(V12=0,"",'Order Form'!AS21*V12*CI12) | AV12: =IF(V12=0,"",'Order Form'!AT21*V12*CI12) | AW12: ='Order Form'!AU21 | AX12: ='Order Form'!AV21 | AY12: ='Order Form'!AW21 | AZ12: ='Order Form'!AX21 | BA12: ='Order Form'!AY21 | BB12: ='Order Form'!AZ21 | BC12: ='Order Form'!BA21 | BD12: ='Order Form'!BB21 | ... CE12: ='Order Form'!CC21 | CF12: =IF($V12=0,"",'Order Form'!CD21*$V12*$CH12) | CG12: =IF($V12=0,"",'Order Form'!CE21) | CH12: ='Order Form'!CF21 | CI12: ='Order Form'!CG21 | CJ12: ='Order Form'!CH21 | CK12: ='Order Form'!CI21
B13: Lennox RTF | C13: Premium / FS | D13: Thermofoil | E13: Slab thermofoil door and drawer front | J13: =IF(B13="","",SUM(N13:S13)) -> 0 | K13: =IF(B13="","",J13-$L$4) -> 0 | L13: =-1+(+J13/$L$4) -> #DIV/0! | N13: =$Z$5 -> 0 | O13: =IF(N13="","",'Order Form'!$M$15) -> 0 | P13: =IF(N13="","",'Order Form'!$N$15) -> 0 | Q13: =IF(O13="","",'Order Form'!$O$15) -> 0 | R13: =$AP$5 -> 0 | S13: =$AR$5 -> 0 | V13: ='Order Form'!B22 -> 0 | W13: 5 | X13: ='Order Form'!Y22 | Y13: ='Order Form'!Z22 | Z13: ='Order Form'!AA22 | AA13: ='Order Form'!AB22 | AB13: ='Order Form'!AC22 | AC13: ='Order Form'!AD22 | AD13: ='Order Form'!AE22 | AE13: ='Order Form'!AJ22 | AF13: ='Order Form'!AK22 | AG13: ='Order Form'!AL22 | AH13: ='Order Form'!AM22 | AI13: ='Order Form'!AN22 | AJ13: ='Order Form'!AO22 | AK13: ='Order Form'!AP22 | AL13: ='Order Form'!AQ22 | AM13: ='Order Form'!AR22 | AO13: =IF($V13=0,"",'Order Form'!AF22*$V13*$CH13) | AP13: =IF($V13=0,"",'Order Form'!AG22*$V13*$CH13) | AQ13: ='Order Form'!AH22 | AR13: ='Order Form'!AI22 | AU13: =IF(V13=0,"",'Order Form'!AS22*V13*CI13) | AV13: =IF(V13=0,"",'Order Form'!AT22*V13*CI13) | AW13: ='Order Form'!AU22 | AX13: ='Order Form'!AV22 | AY13: ='Order Form'!AW22 | AZ13: ='Order Form'!AX22 | BA13: ='Order Form'!AY22 | BB13: ='Order Form'!AZ22 | BC13: ='Order Form'!BA22 | BD13: ='Order Form'!BB22 | ... CE13: ='Order Form'!CC22 | CF13: =IF($V13=0,"",'Order Form'!CD22*$V13*$CH13) | CG13: =IF($V13=0,"",'Order Form'!CE22) | CH13: ='Order Form'!CF22 | CI13: ='Order Form'!CG22 | CJ13: ='Order Form'!CH22 | CK13: ='Order Form'!CI22
V14: ='Order Form'!B23 -> 0 | W14: 6 | X14: ='Order Form'!Y23 | Y14: ='Order Form'!Z23 | Z14: ='Order Form'!AA23 | AA14: ='Order Form'!AB23 | AB14: ='Order Form'!AC23 | AC14: ='Order Form'!AD23 | AD14: ='Order Form'!AE23 | AE14: ='Order Form'!AJ23 | AF14: ='Order Form'!AK23 | AG14: ='Order Form'!AL23 | AH14: ='Order Form'!AM23 | AI14: ='Order Form'!AN23 | AJ14: ='Order Form'!AO23 | AK14: ='Order Form'!AP23 | AL14: ='Order Form'!AQ23 | AM14: ='Order Form'!AR23 | AO14: =IF($V14=0,"",'Order Form'!AF23*$V14*$CH14) | AP14: =IF($V14=0,"",'Order Form'!AG23*$V14*$CH14) | AQ14: ='Order Form'!AH23 | AR14: ='Order Form'!AI23 | AU14: =IF(V14=0,"",'Order Form'!AS23*V14*CI14) | AV14: =IF(V14=0,"",'Order Form'!AT23*V14*CI14) | AW14: ='Order Form'!AU23 | AX14: ='Order Form'!AV23 | AY14: ='Order Form'!AW23 | AZ14: ='Order Form'!AX23 | BA14: ='Order Form'!AY23 | BB14: ='Order Form'!AZ23 | BC14: ='Order Form'!BA23 | BD14: ='Order Form'!BB23 | ... CE14: ='Order Form'!CC23 | CF14: =IF($V14=0,"",'Order Form'!CD23*$V14*$CH14) | CG14: =IF($V14=0,"",'Order Form'!CE23) | CH14: ='Order Form'!CF23 | CI14: ='Order Form'!CG23 | CJ14: ='Order Form'!CH23 | CK14: ='Order Form'!CI23
B15: Hamilton RTF | C15: White | D15: Thermofoil | E15: Routed raised panel thermofoil door and drawer front - Square Profile | J15: =IF(B15="","",SUM(N15:S15)) -> 0 | K15: =IF(B15="","",J15-$L$4) -> 0 | L15: =-1+(+J15/$L$4) -> #DIV/0! | N15: =$AB$5 -> 0 | O15: =IF(N15="","",'Order Form'!$M$15) -> 0 | P15: =IF(N15="","",'Order Form'!$N$15) -> 0 | Q15: =IF(O15="","",'Order Form'!$O$15) -> 0 | R15: NA | S15: NA | V15: ='Order Form'!B24 -> 0 | W15: 7 | X15: ='Order Form'!Y24 | Y15: ='Order Form'!Z24 | Z15: ='Order Form'!AA24 | AA15: ='Order Form'!AB24 | AB15: ='Order Form'!AC24 | AC15: ='Order Form'!AD24 | AD15: ='Order Form'!AE24 | AE15: ='Order Form'!AJ24 | AF15: ='Order Form'!AK24 | AG15: ='Order Form'!AL24 | AH15: ='Order Form'!AM24 | AI15: ='Order Form'!AN24 | AJ15: ='Order Form'!AO24 | AK15: ='Order Form'!AP24 | AL15: ='Order Form'!AQ24 | AM15: ='Order Form'!AR24 | AO15: =IF($V15=0,"",'Order Form'!AF24*$V15*$CH15) | AP15: =IF($V15=0,"",'Order Form'!AG24*$V15*$CH15) | AQ15: ='Order Form'!AH24 | AR15: ='Order Form'!AI24 | AU15: =IF(V15=0,"",'Order Form'!AS24*V15*CI15) | AV15: =IF(V15=0,"",'Order Form'!AT24*V15*CI15) | AW15: ='Order Form'!AU24 | AX15: ='Order Form'!AV24 | AY15: ='Order Form'!AW24 | AZ15: ='Order Form'!AX24 | BA15: ='Order Form'!AY24 | BB15: ='Order Form'!AZ24 | BC15: ='Order Form'!BA24 | BD15: ='Order Form'!BB24 | ... CE15: ='Order Form'!CC24 | CF15: =IF($V15=0,"",'Order Form'!CD24*$V15*$CH15) | CG15: =IF($V15=0,"",'Order Form'!CE24) | CH15: ='Order Form'!CF24 | CI15: ='Order Form'!CG24 | CJ15: ='Order Form'!CH24 | CK15: ='Order Form'!CI24
B16: Hamilton RTF | C16: Opaque | D16: Thermofoil | E16: Routed raised panel thermofoil door and drawer front - Square Profile | J16: =IF(B16="","",SUM(N16:S16)) -> 0 | K16: =IF(B16="","",J16-$L$4) -> 0 | L16: =-1+(+J16/$L$4) -> #DIV/0! | N16: =$AB$5 -> 0 | O16: =IF(N16="","",'Order Form'!$M$15) -> 0 | P16: =IF(N16="","",'Order Form'!$N$15) -> 0 | Q16: =IF(O16="","",'Order Form'!$O$15) -> 0 | R16: =$CF$5 -> 0 | S16: =$CG$5 -> 0 | V16: ='Order Form'!B25 -> 0 | W16: 8 | X16: ='Order Form'!Y25 | Y16: ='Order Form'!Z25 | Z16: ='Order Form'!AA25 | AA16: ='Order Form'!AB25 | AB16: ='Order Form'!AC25 | AC16: ='Order Form'!AD25 | AD16: ='Order Form'!AE25 | AE16: ='Order Form'!AJ25 | AF16: ='Order Form'!AK25 | AG16: ='Order Form'!AL25 | AH16: ='Order Form'!AM25 | AI16: ='Order Form'!AN25 | AJ16: ='Order Form'!AO25 | AK16: ='Order Form'!AP25 | AL16: ='Order Form'!AQ25 | AM16: ='Order Form'!AR25 | AO16: =IF($V16=0,"",'Order Form'!AF25*$V16*$CH16) | AP16: =IF($V16=0,"",'Order Form'!AG25*$V16*$CH16) | AQ16: ='Order Form'!AH25 | AR16: ='Order Form'!AI25 | AU16: =IF(V16=0,"",'Order Form'!AS25*V16*CI16) | AV16: =IF(V16=0,"",'Order Form'!AT25*V16*CI16) | AW16: ='Order Form'!AU25 | AX16: ='Order Form'!AV25 | AY16: ='Order Form'!AW25 | AZ16: ='Order Form'!AX25 | BA16: ='Order Form'!AY25 | BB16: ='Order Form'!AZ25 | BC16: ='Order Form'!BA25 | BD16: ='Order Form'!BB25 | ... CE16: ='Order Form'!CC25 | CF16: =IF($V16=0,"",'Order Form'!CD25*$V16*$CH16) | CG16: =IF($V16=0,"",'Order Form'!CE25) | CH16: ='Order Form'!CF25 | CI16: ='Order Form'!CG25 | CJ16: ='Order Form'!CH25 | CK16: ='Order Form'!CI25
B17: Hamilton RTF | C17: Wood Grain | D17: Thermofoil | E17: Routed raised panel thermofoil door and drawer front - Square Profile | J17: =IF(B17="","",SUM(N17:S17)) -> 0 | K17: =IF(B17="","",J17-$L$4) -> 0 | L17: =-1+(+J17/$L$4) -> #DIV/0! | N17: =$AB$5 -> 0 | O17: =IF(N17="","",'Order Form'!$M$15) -> 0 | P17: =IF(N17="","",'Order Form'!$N$15) -> 0 | Q17: =IF(O17="","",'Order Form'!$O$15) -> 0 | R17: =$AO$5 -> 0 | S17: =$AQ$5 -> 0 | V17: ='Order Form'!B26 -> 0 | W17: 9 | X17: ='Order Form'!Y26 | Y17: ='Order Form'!Z26 | Z17: ='Order Form'!AA26 | AA17: ='Order Form'!AB26 | AB17: ='Order Form'!AC26 | AC17: ='Order Form'!AD26 | AD17: ='Order Form'!AE26 | AE17: ='Order Form'!AJ26 | AF17: ='Order Form'!AK26 | AG17: ='Order Form'!AL26 | AH17: ='Order Form'!AM26 | AI17: ='Order Form'!AN26 | AJ17: ='Order Form'!AO26 | AK17: ='Order Form'!AP26 | AL17: ='Order Form'!AQ26 | AM17: ='Order Form'!AR26 | AO17: =IF($V17=0,"",'Order Form'!AF26*$V17*$CH17) | AP17: =IF($V17=0,"",'Order Form'!AG26*$V17*$CH17) | AQ17: ='Order Form'!AH26 | AR17: ='Order Form'!AI26 | AU17: =IF(V17=0,"",'Order Form'!AS26*V17*CI17) | AV17: =IF(V17=0,"",'Order Form'!AT26*V17*CI17) | AW17: ='Order Form'!AU26 | AX17: ='Order Form'!AV26 | AY17: ='Order Form'!AW26 | AZ17: ='Order Form'!AX26 | BA17: ='Order Form'!AY26 | BB17: ='Order Form'!AZ26 | BC17: ='Order Form'!BA26 | BD17: ='Order Form'!BB26 | ... CE17: ='Order Form'!CC26 | CF17: =IF($V17=0,"",'Order Form'!CD26*$V17*$CH17) | CG17: =IF($V17=0,"",'Order Form'!CE26) | CH17: ='Order Form'!CF26 | CI17: ='Order Form'!CG26 | CJ17: ='Order Form'!CH26 | CK17: ='Order Form'!CI26
V18: ='Order Form'!B27 -> 0 | W18: 10 | X18: ='Order Form'!Y27 | Y18: ='Order Form'!Z27 | Z18: ='Order Form'!AA27 | AA18: ='Order Form'!AB27 | AB18: ='Order Form'!AC27 | AC18: ='Order Form'!AD27 | AD18: ='Order Form'!AE27 | AE18: ='Order Form'!AJ27 | AF18: ='Order Form'!AK27 | AG18: ='Order Form'!AL27 | AH18: ='Order Form'!AM27 | AI18: ='Order Form'!AN27 | AJ18: ='Order Form'!AO27 | AK18: ='Order Form'!AP27 | AL18: ='Order Form'!AQ27 | AM18: ='Order Form'!AR27 | AO18: =IF($V18=0,"",'Order Form'!AF27*$V18*$CH18) | AP18: =IF($V18=0,"",'Order Form'!AG27*$V18*$CH18) | AQ18: ='Order Form'!AH27 | AR18: ='Order Form'!AI27 | AU18: =IF(V18=0,"",'Order Form'!AS27*V18*CI18) | AV18: =IF(V18=0,"",'Order Form'!AT27*V18*CI18) | AW18: ='Order Form'!AU27 | AX18: ='Order Form'!AV27 | AY18: ='Order Form'!AW27 | AZ18: ='Order Form'!AX27 | BA18: ='Order Form'!AY27 | BB18: ='Order Form'!AZ27 | BC18: ='Order Form'!BA27 | BD18: ='Order Form'!BB27 | ... CE18: ='Order Form'!CC27 | CF18: =IF($V18=0,"",'Order Form'!CD27*$V18*$CH18) | CG18: =IF($V18=0,"",'Order Form'!CE27) | CH18: ='Order Form'!CF27 | CI18: ='Order Form'!CG27 | CJ18: ='Order Form'!CH27 | CK18: ='Order Form'!CI27
B19: Mission RTF (MSF) | C19: White | D19: Thermofoil | E19: Shaker thermofoil door and Slab drawer front 5 Piece Door Front | J19: =IF(B19="","",SUM(N19:S19)) -> 0 | K19: =IF(B19="","",J19-$L$4) -> 0 | L19: =-1+(+J19/$L$4) -> #DIV/0! | N19: =$AC$5 -> 0 | O19: 0 | P19: 0 | Q19: 0 | R19: NA | S19: NA | V19: ='Order Form'!B28 -> 0 | W19: 11 | X19: ='Order Form'!Y28 | Y19: ='Order Form'!Z28 | Z19: ='Order Form'!AA28 | AA19: ='Order Form'!AB28 | AB19: ='Order Form'!AC28 | AC19: ='Order Form'!AD28 | AD19: ='Order Form'!AE28 | AE19: ='Order Form'!AJ28 | AF19: ='Order Form'!AK28 | AG19: ='Order Form'!AL28 | AH19: ='Order Form'!AM28 | AI19: ='Order Form'!AN28 | AJ19: ='Order Form'!AO28 | AK19: ='Order Form'!AP28 | AL19: ='Order Form'!AQ28 | AM19: ='Order Form'!AR28 | AO19: =IF($V19=0,"",'Order Form'!AF28*$V19*$CH19) | AP19: =IF($V19=0,"",'Order Form'!AG28*$V19*$CH19) | AQ19: ='Order Form'!AH28 | AR19: ='Order Form'!AI28 | AU19: =IF(V19=0,"",'Order Form'!AS28*V19*CI19) | AV19: =IF(V19=0,"",'Order Form'!AT28*V19*CI19) | AW19: ='Order Form'!AU28 | AX19: ='Order Form'!AV28 | AY19: ='Order Form'!AW28 | AZ19: ='Order Form'!AX28 | BA19: ='Order Form'!AY28 | BB19: ='Order Form'!AZ28 | BC19: ='Order Form'!BA28 | BD19: ='Order Form'!BB28 | ... CE19: ='Order Form'!CC28 | CF19: =IF($V19=0,"",'Order Form'!CD28*$V19*$CH19) | CG19: =IF($V19=0,"",'Order Form'!CE28) | CH19: ='Order Form'!CF28 | CI19: ='Order Form'!CG28 | CJ19: ='Order Form'!CH28 | CK19: ='Order Form'!CI28
B20: Mission RTF (MSF) | C20: Opaque | D20: Thermofoil | E20: Shaker thermofoil door and Slab drawer front 5 Piece Door Front | J20: =IF(B20="","",SUM(N20:S20)) -> 0 | K20: =IF(B20="","",J20-$L$4) -> 0 | L20: =-1+(+J20/$L$4) -> #DIV/0! | N20: =$AC$5 -> 0 | O20: 0 | P20: 0 | Q20: 0 | R20: =$CF$5 -> 0 | S20: =$CG$5 -> 0 | V20: ='Order Form'!B29 -> 0 | W20: 12 | X20: ='Order Form'!Y29 | Y20: ='Order Form'!Z29 | Z20: ='Order Form'!AA29 | AA20: ='Order Form'!AB29 | AB20: ='Order Form'!AC29 | AC20: ='Order Form'!AD29 | AD20: ='Order Form'!AE29 | AE20: ='Order Form'!AJ29 | AF20: ='Order Form'!AK29 | AG20: ='Order Form'!AL29 | AH20: ='Order Form'!AM29 | AI20: ='Order Form'!AN29 | AJ20: ='Order Form'!AO29 | AK20: ='Order Form'!AP29 | AL20: ='Order Form'!AQ29 | AM20: ='Order Form'!AR29 | AO20: =IF($V20=0,"",'Order Form'!AF29*$V20*$CH20) | AP20: =IF($V20=0,"",'Order Form'!AG29*$V20*$CH20) | AQ20: ='Order Form'!AH29 | AR20: ='Order Form'!AI29 | AU20: =IF(V20=0,"",'Order Form'!AS29*V20*CI20) | AV20: =IF(V20=0,"",'Order Form'!AT29*V20*CI20) | AW20: ='Order Form'!AU29 | AX20: ='Order Form'!AV29 | AY20: ='Order Form'!AW29 | AZ20: ='Order Form'!AX29 | BA20: ='Order Form'!AY29 | BB20: ='Order Form'!AZ29 | BC20: ='Order Form'!BA29 | BD20: ='Order Form'!BB29 | ... CE20: ='Order Form'!CC29 | CF20: =IF($V20=0,"",'Order Form'!CD29*$V20*$CH20) | CG20: =IF($V20=0,"",'Order Form'!CE29) | CH20: ='Order Form'!CF29 | CI20: ='Order Form'!CG29 | CJ20: ='Order Form'!CH29 | CK20: ='Order Form'!CI29
B21: Mission RTF (MSF) | C21: Wood Grain | D21: Thermofoil | E21: Shaker thermofoil door and Slab drawer front 5 Piece Door Front | J21: =IF(B21="","",SUM(N21:S21)) -> 0 | K21: =IF(B21="","",J21-$L$4) -> 0 | L21: =-1+(+J21/$L$4) -> #DIV/0! | N21: =$AC$5 -> 0 | O21: 0 | P21: 0 | Q21: 0 | R21: =$AO$5 -> 0 | S21: =$AQ$5 -> 0 | V21: ='Order Form'!B30 -> 0 | W21: 13 | X21: ='Order Form'!Y30 | Y21: ='Order Form'!Z30 | Z21: ='Order Form'!AA30 | AA21: ='Order Form'!AB30 | AB21: ='Order Form'!AC30 | AC21: ='Order Form'!AD30 | AD21: ='Order Form'!AE30 | AE21: ='Order Form'!AJ30 | AF21: ='Order Form'!AK30 | AG21: ='Order Form'!AL30 | AH21: ='Order Form'!AM30 | AI21: ='Order Form'!AN30 | AJ21: ='Order Form'!AO30 | AK21: ='Order Form'!AP30 | AL21: ='Order Form'!AQ30 | AM21: ='Order Form'!AR30 | AO21: =IF($V21=0,"",'Order Form'!AF30*$V21*$CH21) | AP21: =IF($V21=0,"",'Order Form'!AG30*$V21*$CH21) | AQ21: ='Order Form'!AH30 | AR21: ='Order Form'!AI30 | AU21: =IF(V21=0,"",'Order Form'!AS30*V21*CI21) | AV21: =IF(V21=0,"",'Order Form'!AT30*V21*CI21) | AW21: ='Order Form'!AU30 | AX21: ='Order Form'!AV30 | AY21: ='Order Form'!AW30 | AZ21: ='Order Form'!AX30 | BA21: ='Order Form'!AY30 | BB21: ='Order Form'!AZ30 | BC21: ='Order Form'!BA30 | BD21: ='Order Form'!BB30 | ... CE21: ='Order Form'!CC30 | CF21: =IF($V21=0,"",'Order Form'!CD30*$V21*$CH21) | CG21: =IF($V21=0,"",'Order Form'!CE30) | CH21: ='Order Form'!CF30 | CI21: ='Order Form'!CG30 | CJ21: ='Order Form'!CH30 | CK21: ='Order Form'!CI30
B22: Mission RTF (MSF) | C22: Premium / FS | D22: Thermofoil | E22: Shaker thermofoil door and Slab drawer front 5 Piece Door Front | J22: =IF(B22="","",SUM(N22:S22)) -> 0 | K22: =IF(B22="","",J22-$L$4) -> 0 | L22: =-1+(+J22/$L$4) -> #DIV/0! | N22: =$AC$5 -> 0 | O22: 0 | P22: 0 | Q22: 0 | R22: =$AP$5 -> 0 | S22: =$AR$5 -> 0 | V22: ='Order Form'!B31 -> 0 | W22: 14 | X22: ='Order Form'!Y31 | Y22: ='Order Form'!Z31 | Z22: ='Order Form'!AA31 | AA22: ='Order Form'!AB31 | AB22: ='Order Form'!AC31 | AC22: ='Order Form'!AD31 | AD22: ='Order Form'!AE31 | AE22: ='Order Form'!AJ31 | AF22: ='Order Form'!AK31 | AG22: ='Order Form'!AL31 | AH22: ='Order Form'!AM31 | AI22: ='Order Form'!AN31 | AJ22: ='Order Form'!AO31 | AK22: ='Order Form'!AP31 | AL22: ='Order Form'!AQ31 | AM22: ='Order Form'!AR31 | AO22: =IF($V22=0,"",'Order Form'!AF31*$V22*$CH22) | AP22: =IF($V22=0,"",'Order Form'!AG31*$V22*$CH22) | AQ22: ='Order Form'!AH31 | AR22: ='Order Form'!AI31 | AU22: =IF(V22=0,"",'Order Form'!AS31*V22*CI22) | AV22: =IF(V22=0,"",'Order Form'!AT31*V22*CI22) | AW22: ='Order Form'!AU31 | AX22: ='Order Form'!AV31 | AY22: ='Order Form'!AW31 | AZ22: ='Order Form'!AX31 | BA22: ='Order Form'!AY31 | BB22: ='Order Form'!AZ31 | BC22: ='Order Form'!BA31 | BD22: ='Order Form'!BB31 | ... CE22: ='Order Form'!CC31 | CF22: =IF($V22=0,"",'Order Form'!CD31*$V22*$CH22) | CG22: =IF($V22=0,"",'Order Form'!CE31) | CH22: ='Order Form'!CF31 | CI22: ='Order Form'!CG31 | CJ22: ='Order Form'!CH31 | CK22: ='Order Form'!CI31
V23: ='Order Form'!B32 -> 0 | W23: 15 | X23: ='Order Form'!Y32 | Y23: ='Order Form'!Z32 | Z23: ='Order Form'!AA32 | AA23: ='Order Form'!AB32 | AB23: ='Order Form'!AC32 | AC23: ='Order Form'!AD32 | AD23: ='Order Form'!AE32 | AE23: ='Order Form'!AJ32 | AF23: ='Order Form'!AK32 | AG23: ='Order Form'!AL32 | AH23: ='Order Form'!AM32 | AI23: ='Order Form'!AN32 | AJ23: ='Order Form'!AO32 | AK23: ='Order Form'!AP32 | AL23: ='Order Form'!AQ32 | AM23: ='Order Form'!AR32 | AO23: =IF($V23=0,"",'Order Form'!AF32*$V23*$CH23) | AP23: =IF($V23=0,"",'Order Form'!AG32*$V23*$CH23) | AQ23: ='Order Form'!AH32 | AR23: ='Order Form'!AI32 | AU23: =IF(V23=0,"",'Order Form'!AS32*V23*CI23) | AV23: =IF(V23=0,"",'Order Form'!AT32*V23*CI23) | AW23: ='Order Form'!AU32 | AX23: ='Order Form'!AV32 | AY23: ='Order Form'!AW32 | AZ23: ='Order Form'!AX32 | BA23: ='Order Form'!AY32 | BB23: ='Order Form'!AZ32 | BC23: ='Order Form'!BA32 | BD23: ='Order Form'!BB32 | ... CE23: ='Order Form'!CC32 | CF23: =IF($V23=0,"",'Order Form'!CD32*$V23*$CH23) | CG23: =IF($V23=0,"",'Order Form'!CE32) | CH23: ='Order Form'!CF32 | CI23: ='Order Form'!CG32 | CJ23: ='Order Form'!CH32 | CK23: ='Order Form'!CI32
B24: Kadan RTF (KDN) | C24: White | D24: Thermofoil | E24: Slim Shaker thermofoil door and Slab drawer front 5 Piece Door Front | J24: =IF(B24="","",SUM(N24:S24)) -> 0 | K24: =IF(B24="","",J24-$L$4) -> 0 | L24: =-1+(+J24/$L$4) -> #DIV/0! | N24: =$AC$5 -> 0 | O24: 0 | P24: 0 | Q24: 0 | R24: NA | S24: NA | V24: ='Order Form'!B33 -> 0 | W24: 16 | X24: ='Order Form'!Y33 | Y24: ='Order Form'!Z33 | Z24: ='Order Form'!AA33 | AA24: ='Order Form'!AB33 | AB24: ='Order Form'!AC33 | AC24: ='Order Form'!AD33 | AD24: ='Order Form'!AE33 | AE24: ='Order Form'!AJ33 | AF24: ='Order Form'!AK33 | AG24: ='Order Form'!AL33 | AH24: ='Order Form'!AM33 | AI24: ='Order Form'!AN33 | AJ24: ='Order Form'!AO33 | AK24: ='Order Form'!AP33 | AL24: ='Order Form'!AQ33 | AM24: ='Order Form'!AR33 | AO24: =IF($V24=0,"",'Order Form'!AF33*$V24*$CH24) | AP24: =IF($V24=0,"",'Order Form'!AG33*$V24*$CH24) | AQ24: ='Order Form'!AH33 | AR24: ='Order Form'!AI33 | AU24: =IF(V24=0,"",'Order Form'!AS33*V24*CI24) | AV24: =IF(V24=0,"",'Order Form'!AT33*V24*CI24) | AW24: ='Order Form'!AU33 | AX24: ='Order Form'!AV33 | AY24: ='Order Form'!AW33 | AZ24: ='Order Form'!AX33 | BA24: ='Order Form'!AY33 | BB24: ='Order Form'!AZ33 | BC24: ='Order Form'!BA33 | BD24: ='Order Form'!BB33 | ... CE24: ='Order Form'!CC33 | CF24: =IF($V24=0,"",'Order Form'!CD33*$V24*$CH24) | CG24: =IF($V24=0,"",'Order Form'!CE33) | CH24: ='Order Form'!CF33 | CI24: ='Order Form'!CG33 | CJ24: ='Order Form'!CH33 | CK24: ='Order Form'!CI33
B25: Kadan RTF (KDN) | C25: Opaque | D25: Thermofoil | E25: Slim Shaker thermofoil door and Slab drawer front 5 Piece Door Front | J25: =IF(B25="","",SUM(N25:S25)) -> 0 | K25: =IF(B25="","",J25-$L$4) -> 0 | L25: =-1+(+J25/$L$4) -> #DIV/0! | N25: =$AC$5 -> 0 | O25: 0 | P25: 0 | Q25: 0 | R25: =$CF$5 -> 0 | S25: =$CG$5 -> 0 | V25: ='Order Form'!B34 -> 0 | W25: 17 | X25: ='Order Form'!Y34 | Y25: ='Order Form'!Z34 | Z25: ='Order Form'!AA34 | AA25: ='Order Form'!AB34 | AB25: ='Order Form'!AC34 | AC25: ='Order Form'!AD34 | AD25: ='Order Form'!AE34 | AE25: ='Order Form'!AJ34 | AF25: ='Order Form'!AK34 | AG25: ='Order Form'!AL34 | AH25: ='Order Form'!AM34 | AI25: ='Order Form'!AN34 | AJ25: ='Order Form'!AO34 | AK25: ='Order Form'!AP34 | AL25: ='Order Form'!AQ34 | AM25: ='Order Form'!AR34 | AO25: =IF($V25=0,"",'Order Form'!AF34*$V25*$CH25) | AP25: =IF($V25=0,"",'Order Form'!AG34*$V25*$CH25) | AQ25: ='Order Form'!AH34 | AR25: ='Order Form'!AI34 | AU25: =IF(V25=0,"",'Order Form'!AS34*V25*CI25) | AV25: =IF(V25=0,"",'Order Form'!AT34*V25*CI25) | AW25: ='Order Form'!AU34 | AX25: ='Order Form'!AV34 | AY25: ='Order Form'!AW34 | AZ25: ='Order Form'!AX34 | BA25: ='Order Form'!AY34 | BB25: ='Order Form'!AZ34 | BC25: ='Order Form'!BA34 | BD25: ='Order Form'!BB34 | ... CE25: ='Order Form'!CC34 | CF25: =IF($V25=0,"",'Order Form'!CD34*$V25*$CH25) | CG25: =IF($V25=0,"",'Order Form'!CE34) | CH25: ='Order Form'!CF34 | CI25: ='Order Form'!CG34 | CJ25: ='Order Form'!CH34 | CK25: ='Order Form'!CI34
B26: Kadan RTF (KDN) | C26: Wood Grain | D26: Thermofoil | E26: Slim Shaker thermofoil door and Slab drawer front 5 Piece Door Front | J26: =IF(B26="","",SUM(N26:S26)) -> 0 | K26: =IF(B26="","",J26-$L$4) -> 0 | L26: =-1+(+J26/$L$4) -> #DIV/0! | N26: =$AC$5 -> 0 | O26: 0 | P26: 0 | Q26: 0 | R26: =$AO$5 -> 0 | S26: =$AQ$5 -> 0 | V26: ='Order Form'!B35 -> 0 | W26: 18 | X26: ='Order Form'!Y35 | Y26: ='Order Form'!Z35 | Z26: ='Order Form'!AA35 | AA26: ='Order Form'!AB35 | AB26: ='Order Form'!AC35 | AC26: ='Order Form'!AD35 | AD26: ='Order Form'!AE35 | AE26: ='Order Form'!AJ35 | AF26: ='Order Form'!AK35 | AG26: ='Order Form'!AL35 | AH26: ='Order Form'!AM35 | AI26: ='Order Form'!AN35 | AJ26: ='Order Form'!AO35 | AK26: ='Order Form'!AP35 | AL26: ='Order Form'!AQ35 | AM26: ='Order Form'!AR35 | AO26: =IF($V26=0,"",'Order Form'!AF35*$V26*$CH26) | AP26: =IF($V26=0,"",'Order Form'!AG35*$V26*$CH26) | AQ26: ='Order Form'!AH35 | AR26: ='Order Form'!AI35 | AU26: =IF(V26=0,"",'Order Form'!AS35*V26*CI26) | AV26: =IF(V26=0,"",'Order Form'!AT35*V26*CI26) | AW26: ='Order Form'!AU35 | AX26: ='Order Form'!AV35 | AY26: ='Order Form'!AW35 | AZ26: ='Order Form'!AX35 | BA26: ='Order Form'!AY35 | BB26: ='Order Form'!AZ35 | BC26: ='Order Form'!BA35 | BD26: ='Order Form'!BB35 | ... CE26: ='Order Form'!CC35 | CF26: =IF($V26=0,"",'Order Form'!CD35*$V26*$CH26) | CG26: =IF($V26=0,"",'Order Form'!CE35) | CH26: ='Order Form'!CF35 | CI26: ='Order Form'!CG35 | CJ26: ='Order Form'!CH35 | CK26: ='Order Form'!CI35
B27: Kadan RTF (KDN) | C27: Premium / FS | D27: Thermofoil | E27: Slim Shaker thermofoil door and Slab drawer front 5 Piece Door Front | J27: =IF(B27="","",SUM(N27:S27)) -> 0 | K27: =IF(B27="","",J27-$L$4) -> 0 | L27: =-1+(+J27/$L$4) -> #DIV/0! | N27: =$AC$5 -> 0 | O27: 0 | P27: 0 | Q27: 0 | R27: =$AP$5 -> 0 | S27: =$AR$5 -> 0 | V27: ='Order Form'!B36 -> 0 | W27: 19 | X27: ='Order Form'!Y36 | Y27: ='Order Form'!Z36 | Z27: ='Order Form'!AA36 | AA27: ='Order Form'!AB36 | AB27: ='Order Form'!AC36 | AC27: ='Order Form'!AD36 | AD27: ='Order Form'!AE36 | AE27: ='Order Form'!AJ36 | AF27: ='Order Form'!AK36 | AG27: ='Order Form'!AL36 | AH27: ='Order Form'!AM36 | AI27: ='Order Form'!AN36 | AJ27: ='Order Form'!AO36 | AK27: ='Order Form'!AP36 | AL27: ='Order Form'!AQ36 | AM27: ='Order Form'!AR36 | AO27: =IF($V27=0,"",'Order Form'!AF36*$V27*$CH27) | AP27: =IF($V27=0,"",'Order Form'!AG36*$V27*$CH27) | AQ27: ='Order Form'!AH36 | AR27: ='Order Form'!AI36 | AU27: =IF(V27=0,"",'Order Form'!AS36*V27*CI27) | AV27: =IF(V27=0,"",'Order Form'!AT36*V27*CI27) | AW27: ='Order Form'!AU36 | AX27: ='Order Form'!AV36 | AY27: ='Order Form'!AW36 | AZ27: ='Order Form'!AX36 | BA27: ='Order Form'!AY36 | BB27: ='Order Form'!AZ36 | BC27: ='Order Form'!BA36 | BD27: ='Order Form'!BB36 | ... CE27: ='Order Form'!CC36 | CF27: =IF($V27=0,"",'Order Form'!CD36*$V27*$CH27) | CG27: =IF($V27=0,"",'Order Form'!CE36) | CH27: ='Order Form'!CF36 | CI27: ='Order Form'!CG36 | CJ27: ='Order Form'!CH36 | CK27: ='Order Form'!CI36
W28: 20
B29: Lincoln Maple | C29: Standard Stain | D29: Maple | E29: Recessed panel door with 5 Piece Drawer Front (Faux Sides) | J29: =IF(B29="","",SUM(N29:S29)) -> 0 | K29: =IF(B29="","",J29-$L$4) -> 0 | L29: =-1+(+J29/$L$4) -> #DIV/0! | N29: =$AH$5 -> 0 | O29: =IF(N29="","",'Order Form'!$M$15) -> 0 | P29: =IF(N29="","",'Order Form'!$N$15) -> 0 | Q29: =IF(O29="","",'Order Form'!$O$15) -> 0 | R29: =$AU$5*$AB$2 -> 0 | S29: NA | V29: ='Order Form'!B33 -> 0 | W29: 21 | X29: ='Order Form'!Y33 | Y29: ='Order Form'!Z33 | Z29: ='Order Form'!AA33 | AA29: ='Order Form'!AB33 | AB29: ='Order Form'!AC33 | AC29: ='Order Form'!AD33 | AD29: ='Order Form'!AE33 | AE29: ='Order Form'!AJ33 | AF29: ='Order Form'!AK33 | AG29: ='Order Form'!AL33 | AH29: ='Order Form'!AM33 | AI29: ='Order Form'!AN33 | AJ29: ='Order Form'!AO33 | AK29: ='Order Form'!AP33 | AL29: ='Order Form'!AQ33 | AM29: ='Order Form'!AR33 | AO29: =IF($V29=0,"",'Order Form'!AF33*$V29*$CH29) | AP29: =IF($V29=0,"",'Order Form'!AG33*$V29*$CH29) | AQ29: ='Order Form'!AH33 | AR29: ='Order Form'!AI33 | AU29: =IF(V29=0,"",'Order Form'!AS33*V29*CI29) | AV29: =IF(V29=0,"",'Order Form'!AT33*V29*CI29) | AW29: ='Order Form'!AU33 | AX29: ='Order Form'!AV33 | AY29: ='Order Form'!AW33 | AZ29: ='Order Form'!AX33 | BA29: ='Order Form'!AY33 | BB29: ='Order Form'!AZ33 | BC29: ='Order Form'!BA33 | BD29: ='Order Form'!BB33 | ... CE29: ='Order Form'!CC33 | CF29: =IF($V29=0,"",'Order Form'!CD33*$V29*$CH29) | CG29: =IF($V29=0,"",'Order Form'!CE33) | CH29: ='Order Form'!CF33 | CI29: ='Order Form'!CG33 | CJ29: ='Order Form'!CH33 | CK29: ='Order Form'!CI33
B30: Lincoln Maple | C30: Paint | D30: Maple | E30: Lincoln door with 5 Piece Drawer Front | J30: =IF(B30="","",SUM(N30:S30)) -> 0 | K30: =IF(B30="","",J30-$L$4) -> 0 | L30: =-1+(+J30/$L$4) -> #DIV/0! | N30: =$AH$5 -> 0 | O30: =IF(N30="","",'Order Form'!$M$15) -> 0 | P30: =IF(N30="","",'Order Form'!$N$15) -> 0 | Q30: =IF(O30="","",'Order Form'!$O$15) -> 0 | R30: =$AV$5*$AB$2 -> 0 | S30: =SUMPRODUCT($V$9:$V$84,$AH$9:$AH$84,$AX$9:$AX$84)*$X$2 -> 0 | V30: ='Order Form'!B34 -> 0 | W30: 22 | X30: ='Order Form'!Y34 | Y30: ='Order Form'!Z34 | Z30: ='Order Form'!AA34 | AA30: ='Order Form'!AB34 | AB30: ='Order Form'!AC34 | AC30: ='Order Form'!AD34 | AD30: ='Order Form'!AE34 | AE30: ='Order Form'!AJ34 | AF30: ='Order Form'!AK34 | AG30: ='Order Form'!AL34 | AH30: ='Order Form'!AM34 | AI30: ='Order Form'!AN34 | AJ30: ='Order Form'!AO34 | AK30: ='Order Form'!AP34 | AL30: ='Order Form'!AQ34 | AM30: ='Order Form'!AR34 | AO30: =IF($V30=0,"",'Order Form'!AF34*$V30*$CH30) | AP30: =IF($V30=0,"",'Order Form'!AG34*$V30*$CH30) | AQ30: ='Order Form'!AH34 | AR30: ='Order Form'!AI34 | AU30: =IF(V30=0,"",'Order Form'!AS34*V30*CI30) | AV30: =IF(V30=0,"",'Order Form'!AT34*V30*CI30) | AW30: ='Order Form'!AU34 | AX30: ='Order Form'!AV34 | AY30: ='Order Form'!AW34 | AZ30: ='Order Form'!AX34 | BA30: ='Order Form'!AY34 | BB30: ='Order Form'!AZ34 | BC30: ='Order Form'!BA34 | BD30: ='Order Form'!BB34 | ... CE30: ='Order Form'!CC34 | CF30: =IF($V30=0,"",'Order Form'!CD34*$V30*$CH30) | CG30: =IF($V30=0,"",'Order Form'!CE34) | CH30: ='Order Form'!CF34 | CI30: ='Order Form'!CG34 | CJ30: ='Order Form'!CH34 | CK30: ='Order Form'!CI34
V31: ='Order Form'!B35 -> 0 | W31: 23 | X31: ='Order Form'!Y35 | Y31: ='Order Form'!Z35 | Z31: ='Order Form'!AA35 | AA31: ='Order Form'!AB35 | AB31: ='Order Form'!AC35 | AC31: ='Order Form'!AD35 | AD31: ='Order Form'!AE35 | AE31: ='Order Form'!AJ35 | AF31: ='Order Form'!AK35 | AG31: ='Order Form'!AL35 | AH31: ='Order Form'!AM35 | AI31: ='Order Form'!AN35 | AJ31: ='Order Form'!AO35 | AK31: ='Order Form'!AP35 | AL31: ='Order Form'!AQ35 | AM31: ='Order Form'!AR35 | AO31: =IF($V31=0,"",'Order Form'!AF35*$V31*$CH31) | AP31: =IF($V31=0,"",'Order Form'!AG35*$V31*$CH31) | AQ31: ='Order Form'!AH35 | AR31: ='Order Form'!AI35 | AU31: =IF(V31=0,"",'Order Form'!AS35*V31*CI31) | AV31: =IF(V31=0,"",'Order Form'!AT35*V31*CI31) | AW31: ='Order Form'!AU35 | AX31: ='Order Form'!AV35 | AY31: ='Order Form'!AW35 | AZ31: ='Order Form'!AX35 | BA31: ='Order Form'!AY35 | BB31: ='Order Form'!AZ35 | BC31: ='Order Form'!BA35 | BD31: ='Order Form'!BB35 | ... CE31: ='Order Form'!CC35 | CF31: =IF($V31=0,"",'Order Form'!CD35*$V31*$CH31) | CG31: =IF($V31=0,"",'Order Form'!CE35) | CH31: ='Order Form'!CF35 | CI31: ='Order Form'!CG35 | CJ31: ='Order Form'!CH35 | CK31: ='Order Form'!CI35
B32: Shaker Maple | C32: Standard Stain | D32: Maple | E32: Shaker door with 5 Piece Drawer Front (Faux Sides) | J32: =IF(B32="","",SUM(N32:S32)) -> 0 | K32: =IF(B32="","",J32-$L$4) -> 0 | L32: =-1+(+J32/$L$4) -> #DIV/0! | N32: =$AI$5 -> 0 | O32: =IF(N32="","",'Order Form'!$M$15) -> 0 | P32: =IF(N32="","",'Order Form'!$N$15) -> 0 | Q32: =IF(O32="","",'Order Form'!$O$15) -> 0 | R32: =$AU$5*$AB$2 -> 0 | S32: NA | V32: ='Order Form'!B36 -> 0 | W32: 24 | X32: ='Order Form'!Y36 | Y32: ='Order Form'!Z36 | Z32: ='Order Form'!AA36 | AA32: ='Order Form'!AB36 | AB32: ='Order Form'!AC36 | AC32: ='Order Form'!AD36 | AD32: ='Order Form'!AE36 | AE32: ='Order Form'!AJ36 | AF32: ='Order Form'!AK36 | AG32: ='Order Form'!AL36 | AH32: ='Order Form'!AM36 | AI32: ='Order Form'!AN36 | AJ32: ='Order Form'!AO36 | AK32: ='Order Form'!AP36 | AL32: ='Order Form'!AQ36 | AM32: ='Order Form'!AR36 | AO32: =IF($V32=0,"",'Order Form'!AF36*$V32*$CH32) | AP32: =IF($V32=0,"",'Order Form'!AG36*$V32*$CH32) | AQ32: ='Order Form'!AH36 | AR32: ='Order Form'!AI36 | AU32: =IF(V32=0,"",'Order Form'!AS36*V32*CI32) | AV32: =IF(V32=0,"",'Order Form'!AT36*V32*CI32) | AW32: ='Order Form'!AU36 | AX32: ='Order Form'!AV36 | AY32: ='Order Form'!AW36 | AZ32: ='Order Form'!AX36 | BA32: ='Order Form'!AY36 | BB32: ='Order Form'!AZ36 | BC32: ='Order Form'!BA36 | BD32: ='Order Form'!BB36 | ... CE32: ='Order Form'!CC36 | CF32: =IF($V32=0,"",'Order Form'!CD36*$V32*$CH32) | CG32: =IF($V32=0,"",'Order Form'!CE36) | CH32: ='Order Form'!CF36 | CI32: ='Order Form'!CG36 | CJ32: ='Order Form'!CH36 | CK32: ='Order Form'!CI36
B33: Shaker Maple | C33: Paint | D33: Maple | E33: Shaker door with 5 Piece Drawer Front | J33: =IF(B33="","",SUM(N33:S33)) -> 0 | K33: =IF(B33="","",J33-$L$4) -> 0 | L33: =-1+(+J33/$L$4) -> #DIV/0! | N33: =$AI$5 -> 0 | O33: =IF(N33="","",'Order Form'!$M$15) -> 0 | P33: =IF(N33="","",'Order Form'!$N$15) -> 0 | Q33: =IF(O33="","",'Order Form'!$O$15) -> 0 | R33: =$AV$5*$AB$2 -> 0 | S33: =SUMPRODUCT($V$9:$V$84,$AI$9:$AI$84,$AX$9:$AX$84)*$X$2 -> 0 | V33: ='Order Form'!B37 -> 0 | W33: 25 | X33: ='Order Form'!Y37 | Y33: ='Order Form'!Z37 | Z33: ='Order Form'!AA37 | AA33: ='Order Form'!AB37 | AB33: ='Order Form'!AC37 | AC33: ='Order Form'!AD37 | AD33: ='Order Form'!AE37 | AE33: ='Order Form'!AJ37 | AF33: ='Order Form'!AK37 | AG33: ='Order Form'!AL37 | AH33: ='Order Form'!AM37 | AI33: ='Order Form'!AN37 | AJ33: ='Order Form'!AO37 | AK33: ='Order Form'!AP37 | AL33: ='Order Form'!AQ37 | AM33: ='Order Form'!AR37 | AO33: =IF($V33=0,"",'Order Form'!AF37*$V33*$CH33) | AP33: =IF($V33=0,"",'Order Form'!AG37*$V33*$CH33) | AQ33: ='Order Form'!AH37 | AR33: ='Order Form'!AI37 | AU33: =IF(V33=0,"",'Order Form'!AS37*V33*CI33) | AV33: =IF(V33=0,"",'Order Form'!AT37*V33*CI33) | AW33: ='Order Form'!AU37 | AX33: ='Order Form'!AV37 | AY33: ='Order Form'!AW37 | AZ33: ='Order Form'!AX37 | BA33: ='Order Form'!AY37 | BB33: ='Order Form'!AZ37 | BC33: ='Order Form'!BA37 | BD33: ='Order Form'!BB37 | ... CE33: ='Order Form'!CC37 | CF33: =IF($V33=0,"",'Order Form'!CD37*$V33*$CH33) | CG33: =IF($V33=0,"",'Order Form'!CE37) | CH33: ='Order Form'!CF37 | CI33: ='Order Form'!CG37 | CJ33: ='Order Form'!CH37 | CK33: ='Order Form'!CI37
V34: ='Order Form'!B38 -> 0 | W34: 26 | X34: ='Order Form'!Y38 | Y34: ='Order Form'!Z38 | Z34: ='Order Form'!AA38 | AA34: ='Order Form'!AB38 | AB34: ='Order Form'!AC38 | AC34: ='Order Form'!AD38 | AD34: ='Order Form'!AE38 | AE34: ='Order Form'!AJ38 | AF34: ='Order Form'!AK38 | AG34: ='Order Form'!AL38 | AH34: ='Order Form'!AM38 | AI34: ='Order Form'!AN38 | AJ34: ='Order Form'!AO38 | AK34: ='Order Form'!AP38 | AL34: ='Order Form'!AQ38 | AM34: ='Order Form'!AR38 | AO34: =IF($V34=0,"",'Order Form'!AF38*$V34*$CH34) | AP34: =IF($V34=0,"",'Order Form'!AG38*$V34*$CH34) | AQ34: ='Order Form'!AH38 | AR34: ='Order Form'!AI38 | AU34: =IF(V34=0,"",'Order Form'!AS38*V34*CI34) | AV34: =IF(V34=0,"",'Order Form'!AT38*V34*CI34) | AW34: ='Order Form'!AU38 | AX34: ='Order Form'!AV38 | AY34: ='Order Form'!AW38 | AZ34: ='Order Form'!AX38 | BA34: ='Order Form'!AY38 | BB34: ='Order Form'!AZ38 | BC34: ='Order Form'!BA38 | BD34: ='Order Form'!BB38 | ... CE34: ='Order Form'!CC38 | CF34: =IF($V34=0,"",'Order Form'!CD38*$V34*$CH34) | CG34: =IF($V34=0,"",'Order Form'!CE38) | CH34: ='Order Form'!CF38 | CI34: ='Order Form'!CG38 | CJ34: ='Order Form'!CH38 | CK34: ='Order Form'!CI38
B35: Fenton Maple | C35: Standard Stain | D35: Maple | E35: Raised panel door with 5 Piece Drawer Front | J35: =IF(B35="","",SUM(N35:S35)) -> 0 | K35: =IF(B35="","",J35-$L$4) -> 0 | L35: =-1+(+J35/$L$4) -> #DIV/0! | N35: =$AJ$5 -> 0 | O35: =IF(N35="","",'Order Form'!$M$15) -> 0 | P35: =IF(N35="","",'Order Form'!$N$15) -> 0 | Q35: =IF(O35="","",'Order Form'!$O$15) -> 0 | R35: =$AU$5*$AB$2 -> 0 | S35: NA | V35: ='Order Form'!B42 -> 0 | W35: 27 | X35: ='Order Form'!Y42 | Y35: ='Order Form'!Z42 | Z35: ='Order Form'!AA42 | AA35: ='Order Form'!AB42 | AB35: ='Order Form'!AC42 | AC35: ='Order Form'!AD42 | AD35: ='Order Form'!AE42 | AE35: ='Order Form'!AJ42 | AF35: ='Order Form'!AK42 | AG35: ='Order Form'!AL42 | AH35: ='Order Form'!AM42 | AI35: ='Order Form'!AN42 | AJ35: ='Order Form'!AO42 | AK35: ='Order Form'!AP42 | AL35: ='Order Form'!AQ42 | AM35: ='Order Form'!AR42 | AO35: =IF($V35=0,"",'Order Form'!AF42*$V35*$CH35) | AP35: =IF($V35=0,"",'Order Form'!AG42*$V35*$CH35) | AQ35: ='Order Form'!AH42 | AR35: ='Order Form'!AI42 | AU35: =IF(V35=0,"",'Order Form'!AS42*V35*CI35) | AV35: =IF(V35=0,"",'Order Form'!AT42*V35*CI35) | AW35: ='Order Form'!AU42 | AX35: ='Order Form'!AV42 | AY35: ='Order Form'!AW42 | AZ35: ='Order Form'!AX42 | BA35: ='Order Form'!AY42 | BB35: ='Order Form'!AZ42 | BC35: ='Order Form'!BA42 | BD35: ='Order Form'!BB42 | ... CE35: ='Order Form'!CC42 | CF35: =IF($V35=0,"",'Order Form'!CD42*$V35*$CH35) | CG35: =IF($V35=0,"",'Order Form'!CE42) | CH35: ='Order Form'!CF42 | CI35: ='Order Form'!CG42 | CJ35: ='Order Form'!CH42 | CK35: ='Order Form'!CI42
B36: Fenton Maple | C36: Paint | D36: Maple | E36: Raised panel door with 5 Piece Drawer Front | J36: =IF(B36="","",SUM(N36:S36)) -> 0 | K36: =IF(B36="","",J36-$L$4) -> 0 | L36: =-1+(+J36/$L$4) -> #DIV/0! | N36: =$AJ$5 -> 0 | O36: =IF(N36="","",'Order Form'!$M$15) -> 0 | P36: =IF(N36="","",'Order Form'!$N$15) -> 0 | Q36: =IF(O36="","",'Order Form'!$O$15) -> 0 | R36: =$AV$5*$AB$2 -> 0 | S36: =SUMPRODUCT($V$9:$V$84,$AJ$9:$AJ$84,$AW$9:$AW$84)*$X$2 -> 0 | V36: ='Order Form'!B43 -> 0 | W36: 28 | X36: ='Order Form'!Y43 | Y36: ='Order Form'!Z43 | Z36: ='Order Form'!AA43 | AA36: ='Order Form'!AB43 | AB36: ='Order Form'!AC43 | AC36: ='Order Form'!AD43 | AD36: ='Order Form'!AE43 | AE36: ='Order Form'!AJ43 | AF36: ='Order Form'!AK43 | AG36: ='Order Form'!AL43 | AH36: ='Order Form'!AM43 | AI36: ='Order Form'!AN43 | AJ36: ='Order Form'!AO43 | AK36: ='Order Form'!AP43 | AL36: ='Order Form'!AQ43 | AM36: ='Order Form'!AR43 | AO36: =IF($V36=0,"",'Order Form'!AF43*$V36*$CH36) | AP36: =IF($V36=0,"",'Order Form'!AG43*$V36*$CH36) | AQ36: ='Order Form'!AH43 | AR36: ='Order Form'!AI43 | AU36: =IF(V36=0,"",'Order Form'!AS43*V36*CI36) | AV36: =IF(V36=0,"",'Order Form'!AT43*V36*CI36) | AW36: ='Order Form'!AU43 | AX36: ='Order Form'!AV43 | AY36: ='Order Form'!AW43 | AZ36: ='Order Form'!AX43 | BA36: ='Order Form'!AY43 | BB36: ='Order Form'!AZ43 | BC36: ='Order Form'!BA43 | BD36: ='Order Form'!BB43 | ... CE36: ='Order Form'!CC43 | CF36: =IF($V36=0,"",'Order Form'!CD43*$V36*$CH36) | CG36: =IF($V36=0,"",'Order Form'!CE43) | CH36: ='Order Form'!CF43 | CI36: ='Order Form'!CG43 | CJ36: ='Order Form'!CH43 | CK36: ='Order Form'!CI43
J37: =IF(B37="","",SUM(N37:S37)) | K37: =IF(B37="","",J37-$L$4) | O37: =IF(N37="","",'Order Form'!$M$15) | P37: =IF(N37="","",'Order Form'!$N$15) | Q37: =IF(O37="","",'Order Form'!$O$15) | V37: ='Order Form'!B47 -> 0 | W37: 29 | X37: ='Order Form'!Y47 | Y37: ='Order Form'!Z47 | Z37: ='Order Form'!AA47 | AA37: ='Order Form'!AB47 | AB37: ='Order Form'!AC47 | AC37: ='Order Form'!AD47 | AD37: ='Order Form'!AE47 | AE37: ='Order Form'!AJ47 | AF37: ='Order Form'!AK47 | AG37: ='Order Form'!AL47 | AH37: ='Order Form'!AM47 | AI37: ='Order Form'!AN47 | AJ37: ='Order Form'!AO47 | AK37: ='Order Form'!AP47 | AL37: ='Order Form'!AQ47 | AM37: ='Order Form'!AR47 | AO37: =IF($V37=0,"",'Order Form'!AF47*$V37*$CH37) | AP37: =IF($V37=0,"",'Order Form'!AG47*$V37*$CH37) | AQ37: ='Order Form'!AH47 | AR37: ='Order Form'!AI47 | AU37: =IF(V37=0,"",'Order Form'!AS47*V37*CI37) | AV37: =IF(V37=0,"",'Order Form'!AT47*V37*CI37) | AW37: ='Order Form'!AU47 | AX37: ='Order Form'!AV47 | AY37: ='Order Form'!AW47 | AZ37: ='Order Form'!AX47 | BA37: ='Order Form'!AY47 | BB37: ='Order Form'!AZ47 | BC37: ='Order Form'!BA47 | BD37: ='Order Form'!BB47 | ... CE37: ='Order Form'!CC47 | CF37: =IF($V37=0,"",'Order Form'!CD47*$V37*$CH37) | CG37: =IF($V37=0,"",'Order Form'!CE47) | CH37: ='Order Form'!CF47 | CI37: ='Order Form'!CG47 | CJ37: ='Order Form'!CH47 | CK37: ='Order Form'!CI47
V38: ='Order Form'!B48 -> 0 | W38: 30 | X38: ='Order Form'!Y48 | Y38: ='Order Form'!Z48 | Z38: ='Order Form'!AA48 | AA38: ='Order Form'!AB48 | AB38: ='Order Form'!AC48 | AC38: ='Order Form'!AD48 | AD38: ='Order Form'!AE48 | AE38: ='Order Form'!AJ48 | AF38: ='Order Form'!AK48 | AG38: ='Order Form'!AL48 | AH38: ='Order Form'!AM48 | AI38: ='Order Form'!AN48 | AJ38: ='Order Form'!AO48 | AK38: ='Order Form'!AP48 | AL38: ='Order Form'!AQ48 | AM38: ='Order Form'!AR48 | AO38: =IF($V38=0,"",'Order Form'!AF48*$V38*$CH38) | AP38: =IF($V38=0,"",'Order Form'!AG48*$V38*$CH38) | AQ38: ='Order Form'!AH48 | AR38: ='Order Form'!AI48 | AU38: =IF(V38=0,"",'Order Form'!AS48*V38*CI38) | AV38: =IF(V38=0,"",'Order Form'!AT48*V38*CI38) | AW38: ='Order Form'!AU48 | AX38: ='Order Form'!AV48 | AY38: ='Order Form'!AW48 | AZ38: ='Order Form'!AX48 | BA38: ='Order Form'!AY48 | BB38: ='Order Form'!AZ48 | BC38: ='Order Form'!BA48 | BD38: ='Order Form'!BB48 | ... CE38: ='Order Form'!CC48 | CF38: =IF($V38=0,"",'Order Form'!CD48*$V38*$CH38) | CG38: =IF($V38=0,"",'Order Form'!CE48) | CH38: ='Order Form'!CF48 | CI38: ='Order Form'!CG48 | CJ38: ='Order Form'!CH48 | CK38: ='Order Form'!CI48
V39: ='Order Form'!B49 -> 0 | W39: 31 | X39: ='Order Form'!Y49 | Y39: ='Order Form'!Z49 | Z39: ='Order Form'!AA49 | AA39: ='Order Form'!AB49 | AB39: ='Order Form'!AC49 | AC39: ='Order Form'!AD49 | AD39: ='Order Form'!AE49 | AE39: ='Order Form'!AJ49 | AF39: ='Order Form'!AK49 | AG39: ='Order Form'!AL49 | AH39: ='Order Form'!AM49 | AI39: ='Order Form'!AN49 | AJ39: ='Order Form'!AO49 | AK39: ='Order Form'!AP49 | AL39: ='Order Form'!AQ49 | AM39: ='Order Form'!AR49 | AO39: =IF($V39=0,"",'Order Form'!AF49*$V39*$CH39) | AP39: =IF($V39=0,"",'Order Form'!AG49*$V39*$CH39) | AQ39: ='Order Form'!AH49 | AR39: ='Order Form'!AI49 | AU39: =IF(V39=0,"",'Order Form'!AS49*V39*CI39) | AV39: =IF(V39=0,"",'Order Form'!AT49*V39*CI39) | AW39: ='Order Form'!AU49 | AX39: ='Order Form'!AV49 | AY39: ='Order Form'!AW49 | AZ39: ='Order Form'!AX49 | BA39: ='Order Form'!AY49 | BB39: ='Order Form'!AZ49 | BC39: ='Order Form'!BA49 | BD39: ='Order Form'!BB49 | ... CE39: ='Order Form'!CC49 | CF39: =IF($V39=0,"",'Order Form'!CD49*$V39*$CH39) | CG39: =IF($V39=0,"",'Order Form'!CE49) | CH39: ='Order Form'!CF49 | CI39: ='Order Form'!CG49 | CJ39: ='Order Form'!CH49 | CK39: ='Order Form'!CI49
J40: =IF(B40="","",SUM(N40:S40)) | K40: =IF(B40="","",J40-$L$4) | O40: =IF(N40="","",'Order Form'!$M$15) | P40: =IF(N40="","",'Order Form'!$N$15) | Q40: =IF(O40="","",'Order Form'!$O$15) | V40: ='Order Form'!B50 -> 0 | W40: 32 | X40: ='Order Form'!Y50 | Y40: ='Order Form'!Z50 | Z40: ='Order Form'!AA50 | AA40: ='Order Form'!AB50 | AB40: ='Order Form'!AC50 | AC40: ='Order Form'!AD50 | AD40: ='Order Form'!AE50 | AE40: ='Order Form'!AJ50 | AF40: ='Order Form'!AK50 | AG40: ='Order Form'!AL50 | AH40: ='Order Form'!AM50 | AI40: ='Order Form'!AN50 | AJ40: ='Order Form'!AO50 | AK40: ='Order Form'!AP50 | AL40: ='Order Form'!AQ50 | AM40: ='Order Form'!AR50 | AO40: =IF($V40=0,"",'Order Form'!AF50*$V40*$CH40) | AP40: =IF($V40=0,"",'Order Form'!AG50*$V40*$CH40) | AQ40: ='Order Form'!AH50 | AR40: ='Order Form'!AI50 | AU40: =IF(V40=0,"",'Order Form'!AS50*V40*CI40) | AV40: =IF(V40=0,"",'Order Form'!AT50*V40*CI40) | AW40: ='Order Form'!AU50 | AX40: ='Order Form'!AV50 | AY40: ='Order Form'!AW50 | AZ40: ='Order Form'!AX50 | BA40: ='Order Form'!AY50 | BB40: ='Order Form'!AZ50 | BC40: ='Order Form'!BA50 | BD40: ='Order Form'!BB50 | ... CE40: ='Order Form'!CC50 | CF40: =IF($V40=0,"",'Order Form'!CD50*$V40*$CH40) | CG40: =IF($V40=0,"",'Order Form'!CE50) | CH40: ='Order Form'!CF50 | CI40: ='Order Form'!CG50 | CJ40: ='Order Form'!CH50 | CK40: ='Order Form'!CI50
...

Sheet Doors Matrix

Sheet Order Form
B1: =D3&" Form" -> Form
B2: Order Information | I2: Doorstyle | K2: Shipping Information | N2: Code Definitions | AA2: End | AB2: Door | AG2: Alpha | AH2: Index
B3: Order Type | K3: Address | N3: Drawer Box | P3: Door Hinge | Y3: Active Adder Index | Z3: =VLOOKUP(I5,INDIRECT($BG$8),4,FALSE) -> #N/A | AA3: =VLOOKUP($Z$3,$Z$4:$AB$11,2,FALSE) -> #N/A | AB3: =VLOOKUP($Z$3,$Z$4:$AB$11,3,FALSE) -> #N/A | AF3: Active Doorstyle | AG3: =VLOOKUP($I3,INDIRECT($BG$6),2,FALSE) -> #N/A | AH3: =VLOOKUP($I3,INDIRECT($BG$6),4,FALSE) -> #N/A | AL3: Shipping Multiplier | AM3: =IF(OR(D3="Sales Order",AND(D3="Parts Order",D4="")=TRUE)=TRUE,1,VLOOKUP(D4,tbl_ReasonCodes,2,FALSE)) -> #N/A | AT3: Doorstyle Notes | AU3: =IFERROR(IF(I3="","Please Select a Doorstyle","You have selected a Doorstyle with "&AM9&" species"),"This Doorstyle is for Warranty Only") -> Please Select a Doorstyle | BD3: Show Old DSF's | BE3: =AM3=0 -> #N/A
B4: Reason Code | I4: Finish | K4: City | N4: STD = Standard | P4: STD = Standard Hinge | Y4: White - no charge | Z4: NON | AA4: NA | AB4: NA
B5: Date | K5: State | N5: DT = DoveTail | P5: SC = Soft Close Hinge | Y5: Veneer | Z5: VEN | AA5: 21 | AB5: NA | AF5: Active Finish Codes | AG5: =VLOOKUP(I5,INDIRECT($BG$8),3,FALSE) -> #N/A | AL5: Active DSF Name | AM5: =I3&I5 | AT5: DSF Combo Notes | AU5: =IF(I5="","Please select a species appropriate finish",IF(LEFT(AG3,2)="xx","No-Door can use any finish available","The DSF combination you selected is "&LOWER($AM$7))) -> Please select a species appropriate finish | BE5: List | BG5: Table
B6: Account Name | I6: Glass Grade | K6: Zip Code | Y6: Veneer Glaze | Z6: GLZ | AA6: 22 | AB6: 23 | BD6: Active Doorstyle Range | BE6: =IF($BE$3=FALSE,"list_DoorStyles","list_OldDoorStyles") -> #N/A | BG6: =IF($BE$3=FALSE,"tbl_DoorStyles","tbl_OldDoorStyles") -> #N/A
B7: Account # | I7: Clear | K7: Phone # | P7: Glass Grade | Y7: Veneer Paint | Z7: PNT | AA7: 22 | AB7: 24 | AF7: Active Glass Codes | AG7: =IF(I7="","CLR",VLOOKUP($I7,tbl_GlassGrade,2,FALSE)) -> CLR | AH7: =IF(I7="","NA",VLOOKUP($I7,tbl_GlassGrade,3,FALSE)) -> NA | AL7: Active DSF Status | AM7: =(VLOOKUP(AM5,INDIRECT($BG$10),2,FALSE)) -> #N/A | AT7: Material Spec Notes | AU7: =IF($I$9="","Please select a Material Specification",IF(AND($I$9<>$AG$11,$AG$11<>"choose")=TRUE,"You must pick "&$AG$11&" for a Material Spec",IF(AND($AG$11="Choose",$I$9="RTF")=TRUE,"Please Choose Veneer or Faux for Material Specifiation","You have choosen a valid Material Specification"))) -> #N/A
B8: Project Name | K8: Method | N8: Finished Ends | P8: CLR = Clear | Y8: Venner Glaze/Paint | Z8: GPTT | AA8: 22 | AB8: 25 | BD8: Active Finish Range | BE8: =IF(AG3="ALS","list_ALS",IF($BE$3=FALSE,"list_Finishes","list_OldFinishes")) -> #N/A | BG8: =IF(AG3="ALS","tbl_ALS",IF($BE$3=FALSE,"tbl_Finishes","tbl_OldFinishes")) -> #N/A
B9: Project # | I9: =INDIRECT(VLOOKUP(val_Finish,tbl_Finishes,2,FALSE)) -> #N/A | K9: Freight Cost | N9: M=Matching End | Y9: Wood Grain 0 | Z9: WG0 | AA9: 58 | AB9: 59 | AF9: Is Oak indicator | AG9: =OR(AG5=12,AG5=13,AG5=14) -> #N/A | AL9: Active Door Species | AM9: =VLOOKUP($I$3,INDIRECT($BG$6),3,FALSE) -> #N/A | AT9: Glass Grade Notes | AU9: =IF(SUM(CA18:CB117)>0,"There is at least one Glass Door Cabinet on order","No Glass Cabs on order") -> No Glass Cabs on order
B10: Purchase Order # | I10: =IFERROR(AU5,"DSF combination is INVALD") -> Please select a species appropriate finish | L10: Ship Credits | M10: =S16 -> 0 | Y10: Wood Grain 1 | Z10: WG1 | AA10: 8 | AB10: 10 | AF10: Is RTF indicator | AG10: =OR(Z3="WG0",Z3="NON",Z3="WG1",Z3="WG2") -> #N/A | BD10: Active DSF Range | BE10: =IF($BE$3=FALSE,"list_DSF","list_OldDSF") -> #N/A | BG10: =IF($BE$3=FALSE,"tbl_DSF","tbl_OldDSF") -> #N/A
B11: Plan - Lot | I11: =AU9 -> No Glass Cabs on order | L11: Freight | M11: =L9 -> 0 | Y11: Wood Grain 2 | Z11: WG2 | AA11: 9 | AB11: 11 | AF11: Implied Skin Grade | AG11: =IF(AG9=TRUE,"Faux",IF(AG10=TRUE,"RTF","Choose")) -> #N/A | AJ11: Veneer Accesory X | AM11: =list_VeneerAccMultiplier -> 3.5
B12: Multiplier | D12: 1 | L12: Materials Net | M12: =P15 -> 0 | BD12: Active Skin Offering | BE12: =VLOOKUP(I5,tbl_Finishes,2,FALSE) -> #N/A
B13: Stocked? | I13: TEA aluminum door for replacement facia ONLY | L13: Total | M13: =M12+M11 -> 0
B14: !!!!!! WARNING - - TEA aluminum door for replacement facia ONLY - - WARNING !!!!! | R14: Version: | S14: 2026v1.0 | X14: PriceLookup-Index | Y14: 1 | Z14: 2 | AA14: 3 | AB14: 4 | AC14: 5 | AD14: 6 | AE14: 7 | AF14: 8 | AG14: 9 | AH14: 10 | AI14: 11 | AJ14: 12 | AK14: 13 | AL14: 14 | AM14: 15 | AN14: 16 | AO14: 17 | AP14: 18 | AQ14: 19 | AR14: 20 | AS14: 21 | AT14: 22 | AU14: 23 | AV14: 24 | AW14: 25 | AX14: 26 | AY14: 27 | AZ14: 28 | BA14: 29 | BB14: 30 | BC14: 31 | BD14: 32 | BE14: 33 | BF14: 34 | BG14: 35 | BH14: 36 | BI14: 37 | BJ14: 38 | BK14: 39 | BL14: 40 | BM14: 41 | BN14: 42 | BO14: 43 | BP14: 44 | BQ14: 45 | BR14: 46 | BS14: 47 | BT14: 48 | BU14: 49 | BV14: 50 | BW14: 51 | BX14: 52 | BY14: 53 | BZ14: 54 | CA14: 55 | CB14: 56 | CC14: 57 | CD14: 58 | CE14: 59
I15: NET TOTALS | J15: =+J16*$D$12 -> 0 | K15: =+K16*$D$12 -> 0 | L15: =+L16*$D$12 -> 0 | M15: =+M16*$D$12 -> 0 | N15: =+N16*$D$12 -> 0 | O15: =+O16*$D$12 -> 0 | P15: =SUM(V18:V117) -> 0 | X15: HardList-Vlook | Y15: 3 | Z15: 4 | AA15: 5 | AB15: 6 | AC15: 7 | AD15: 8 | AE15: 9 | AF15: 10 | AG15: 11 | AH15: 12 | AI15: 13 | AJ15: 14 | AK15: 15 | AL15: 16 | AM15: 17 | AN15: 18 | AO15: 19 | AP15: 20 | AQ15: 21 | AR15: 22 | AS15: 23 | AT15: 24 | AU15: 25 | AV15: 26 | AW15: 27 | AX15: 28 | AY15: 29 | AZ15: 30 | BA15: 31 | BB15: 32 | BC15: 33 | BD15: 34 | BE15: 35 | BF15: 36 | BG15: 37 | BH15: 38 | BI15: 39 | BJ15: 40 | BK15: 41 | BL15: 42 | BM15: 43 | BN15: 44 | BO15: 45 | BP15: 46 | BQ15: 47 | BR15: 48 | BS15: 49 | BT15: 50 | BU15: 51 | BV15: 52 | BW15: 53 | BX15: 54 | BY15: 55 | BZ15: 56 | CA15: 57 | CB15: 58 | CC15: 59 | CD15: 62 | CE15: 63
I16: LIST TOTALS | J16: =SUM(J18:J117) -> 0 | K16: =SUM(K18:K117) -> 0 | L16: =SUM(L18:L117) -> 0 | M16: =SUM(M18:M117) -> 0 | N16: =SUM(N18:N117) -> 0 | O16: =SUM(O18:O117) -> 0 | P16: =SUM(P18:P117) -> 0 | Q16: =SUM(Q18:Q117) -> 0 | R16: =SUM(R18:R117) -> 0 | S16: =ROUNDUP(SUM(S18:S117),2) -> 0 | Y16: THERMOFOIL DOORS | AF16: THERMOFOIL ADDERS | AJ16: OAK DOORS | AM16: MAPLE DOORS | AS16: FINISH ADDERS | AX16: SPEC GRADE ADDERS | BB16: INFORMATION
B17: Qty | C17: Cabinet | D17: Hinge | E17: Left End | F17: Right End | G17: Drawer Box | H17: Door Hinge | I17: Description and Dimensions | J17: Base SKU Price | K17: Finish End Upcharge | L17: Paint or RTF Door Upcharge | M17: Drawer Box Upcharge | N17: Hinge Upcharge | O17: Glass Grade Upcharge | P17: Total Price | Q17: Cubes | R17: Weight | S17: Ship Credits | V17: Active Net | X17: Index | Y17: XX | Z17: ML | AA17: LX | AB17: MD | AC17: HM | AD17: MS | AE17: NT | AF17: Group 1 Ends | AG17: Group 2 Ends | AH17: Group 1 Doors | AI17: Group 2 Doors | AJ17: XXO/M | AK17: 31 LCO | AL17: 6 SHO | AM17: 31 LCM | AN17: 13 SHM | AO17: 32 FNM | AP17: 26 CFM | AQ17: 18 NPM | AR17: 33 MNM | AS17: Vnr Ends Stains | AT17: Vnr Ends Glaze Vanilla | AU17: Doors Glaze Adder | AV17: Doors Paint Adder | AW17: Doors Glazed Paint Adder | AX17: Dovetail Drawers | AY17: Fusion Drawers | AZ17: Soft Close Hinges | BA17: Tripoli Aluminum Door | BB17: Hinging L/R | BC17: Type | BD17: Subtype | BE17: Prefix | BF17: Depth | BG17: Width | BH17: Height | BI17: Cube | BJ17: Ave Weight | BK17: BSF | BL17: FSF | BM17: Knobs | BN17: Doors | BO17: Drawers | BP17: Rollouts | BQ17: Adj Shelves | BR17: Hinges | BS17: Ship Credits | BT17: Piece Credits | BU17: SIT | BV17: If ACC, needs finish code? | BW17: Takes Glaze | BX17: Takes Paint | BY17: Takes Glazed Paint | BZ17: Needs Glass? | CA17: Glass Adder 1 - FRS/RAN/RIB | CB17: Glass Adder 2 CRD | CC17: Needs Material Spec | CD17: Group 0 Ends | CE17: Group 0 Doors | CF17: Matching Ends | CG17: Total Drawers | CH17: veneer Accessory? | CI17: Faux Accessory?
